BEGIN:VCALENDAR
VERSION:2.0
PRODID:-//Mersmak7h - ECPv6.15.20//NONSGML v1.0//EN
CALSCALE:GREGORIAN
METHOD:PUBLISH
X-ORIGINAL-URL:https://mersmak7h.se
X-WR-CALDESC:Händelser för Mersmak7h
REFRESH-INTERVAL;VALUE=DURATION:PT1H
X-Robots-Tag:noindex
X-PUBLISHED-TTL:PT1H
BEGIN:VTIMEZONE
TZID:Europe/Paris
BEGIN:DAYLIGHT
TZOFFSETFROM:+0100
TZOFFSETTO:+0200
TZNAME:CEST
DTSTART:20220327T010000
END:DAYLIGHT
BEGIN:STANDARD
TZOFFSETFROM:+0200
TZOFFSETTO:+0100
TZNAME:CET
DTSTART:20221030T010000
END:STANDARD
BEGIN:DAYLIGHT
TZOFFSETFROM:+0100
TZOFFSETTO:+0200
TZNAME:CEST
DTSTART:20230326T010000
END:DAYLIGHT
BEGIN:STANDARD
TZOFFSETFROM:+0200
TZOFFSETTO:+0100
TZNAME:CET
DTSTART:20231029T010000
END:STANDARD
BEGIN:DAYLIGHT
TZOFFSETFROM:+0100
TZOFFSETTO:+0200
TZNAME:CEST
DTSTART:20240331T010000
END:DAYLIGHT
BEGIN:STANDARD
TZOFFSETFROM:+0200
TZOFFSETTO:+0100
TZNAME:CET
DTSTART:20241027T010000
END:STANDARD
END:VTIMEZONE
BEGIN:VTIMEZONE
TZID:Europe/Helsinki
BEGIN:DAYLIGHT
TZOFFSETFROM:+0200
TZOFFSETTO:+0300
TZNAME:EEST
DTSTART:20220327T010000
END:DAYLIGHT
BEGIN:STANDARD
TZOFFSETFROM:+0300
TZOFFSETTO:+0200
TZNAME:EET
DTSTART:20221030T010000
END:STANDARD
BEGIN:DAYLIGHT
TZOFFSETFROM:+0200
TZOFFSETTO:+0300
TZNAME:EEST
DTSTART:20230326T010000
END:DAYLIGHT
BEGIN:STANDARD
TZOFFSETFROM:+0300
TZOFFSETTO:+0200
TZNAME:EET
DTSTART:20231029T010000
END:STANDARD
BEGIN:DAYLIGHT
TZOFFSETFROM:+0200
TZOFFSETTO:+0300
TZNAME:EEST
DTSTART:20240331T010000
END:DAYLIGHT
BEGIN:STANDARD
TZOFFSETFROM:+0300
TZOFFSETTO:+0200
TZNAME:EET
DTSTART:20241027T010000
END:STANDARD
END:VTIMEZONE
BEGIN:VEVENT
DTSTART;TZID=Europe/Paris:20230905T143000
DTEND;TZID=Europe/Paris:20230905T180000
DTSTAMP:20260420T041425
CREATED:20230607T071409Z
LAST-MODIFIED:20230824T090434Z
UID:106-1693924200-1693936800@mersmak7h.se
SUMMARY:Mersmak 5 september
DESCRIPTION:Välkommen till affärsnätverket Mersmak 7H på Orangeriet i Borås. \nAnmäl dig till träffen här. \nPreliminär agenda för denna träff: \n14:30-15:00 Mingel\n15:00-15:15 Introduktion och information om Mersmak\n15:15-15:30 Borås Kafferosteri – Jens Johansson\n15:30-15:35 Presentation av huvudrätt\n15:35-16:15 Huvudrätt + dragning runt bordet\n16:15-16:30 Superstudio – Anna Johäll\n16:30-16:45 Månadens nätverkare och quiz\n16:45-16:50 Platsbyte\n16:50-16:55 Presentation av dessert\n16:55-17:30 Dessert + dragning runt bordet\n17:30-18:00 Mingel
URL:https://mersmak7h.se/natverkstraff/mersmak-5-september/
LOCATION:Orangeriet\, Borås\, Teaterbron 1\, Borås\, 503 38
END:VEVENT
BEGIN:VEVENT
DTSTART;TZID=Europe/Paris:20230605T143000
DTEND;TZID=Europe/Paris:20230605T180000
DTSTAMP:20260420T041426
CREATED:20230502T195718Z
LAST-MODIFIED:20230522T143245Z
UID:81-1685975400-1685988000@mersmak7h.se
SUMMARY:Mersmak 5 juni
DESCRIPTION:Välkommen till affärsnätverket Mersmak 7H. \nAnmäl dig till träffen här. \nPreliminär agenda för denna träff: \n14:30-15:00 Mingel\n15:00-15:15 Introduktion och information om Mersmak\n15:15-15:30 Elli Labardi – Ready to enjoy\n15:30-15:35 Presentation av huvudrätt\n15:35-16:15 Huvudrätt + dragning runt bordet\n16:15-16:30 Grimsis Fisk\n16:30-16:45 Månadens nätverkare och quiz\n16:45-16:50 Platsbyte\n16:50-16:55 Presentation av dessert\n16:55-17:30 Dessert + dragning runt bordet\n17:30-18:00 Mingel
URL:https://mersmak7h.se/natverkstraff/mersmak-5-juni/
LOCATION:Aventiladan\, Almenäs\, Almenäs\, Borås\, 50632\, Sverige
END:VEVENT
BEGIN:VEVENT
DTSTART;TZID=Europe/Helsinki:20230502T143000
DTEND;TZID=Europe/Helsinki:20230502T180000
DTSTAMP:20260420T041426
CREATED:20230420T083045Z
LAST-MODIFIED:20230502T071312Z
UID:20-1683037800-1683050400@mersmak7h.se
SUMMARY:Mersmak 2 maj
DESCRIPTION:Välkommen till affärsnätverket Mersmak 7H på Orangeriet i Borås. \nAnmäl dig till träffen här. \nPreliminär agenda för denna träff: \n14:30-15:00 Mingel\n15:00-15:15 Introduktion och information om Mersmak\n15:15-15:30 Andreas Lycken – Gear Shift AB\n15:30-15:35 Presentation av huvudrätt\n15:35-16:15 Huvudrätt + dragning runt bordet\n16:15-16:30 Alexander Slotte – Top of heart\n16:30-16:45 Månadens nätverkare och quiz\n16:45-16:50 Platsbyte\n16:50-16:55 Presentation av dessert\n16:55-17:30 Dessert + dragning runt bordet\n17:30-18:00 Mingel
URL:https://mersmak7h.se/natverkstraff/mersmak-2-maj/
LOCATION:Orangeriet\, Borås\, Teaterbron 1\, Borås\, 503 38
END:VEVENT
END:VCALENDAR