BEGIN:VCALENDAR
VERSION:2.0
PRODID:-//Mersmak7h - ECPv6.15.20//NONSGML v1.0//EN
CALSCALE:GREGORIAN
METHOD:PUBLISH
X-ORIGINAL-URL:https://mersmak7h.se
X-WR-CALDESC:Händelser för Mersmak7h
REFRESH-INTERVAL;VALUE=DURATION:PT1H
X-Robots-Tag:noindex
X-PUBLISHED-TTL:PT1H
BEGIN:VTIMEZONE
TZID:Europe/Paris
BEGIN:DAYLIGHT
TZOFFSETFROM:+0100
TZOFFSETTO:+0200
TZNAME:CEST
DTSTART:20250330T010000
END:DAYLIGHT
BEGIN:STANDARD
TZOFFSETFROM:+0200
TZOFFSETTO:+0100
TZNAME:CET
DTSTART:20251026T010000
END:STANDARD
BEGIN:DAYLIGHT
TZOFFSETFROM:+0100
TZOFFSETTO:+0200
TZNAME:CEST
DTSTART:20260329T010000
END:DAYLIGHT
BEGIN:STANDARD
TZOFFSETFROM:+0200
TZOFFSETTO:+0100
TZNAME:CET
DTSTART:20261025T010000
END:STANDARD
BEGIN:DAYLIGHT
TZOFFSETFROM:+0100
TZOFFSETTO:+0200
TZNAME:CEST
DTSTART:20270328T010000
END:DAYLIGHT
BEGIN:STANDARD
TZOFFSETFROM:+0200
TZOFFSETTO:+0100
TZNAME:CET
DTSTART:20271031T010000
END:STANDARD
END:VTIMEZONE
BEGIN:VEVENT
DTSTART;TZID=Europe/Paris:20260505T143000
DTEND;TZID=Europe/Paris:20260505T180000
DTSTAMP:20260420T022141
CREATED:20260119T102238Z
LAST-MODIFIED:20260119T102238Z
UID:350-1777991400-1778004000@mersmak7h.se
SUMMARY:Mersmak 5 maj
DESCRIPTION:Välkommen till affärsnätverket Mersmak 7H på Orangeriet i Borås. \nAnmäl dig till träffen här. \nPreliminär agenda för denna träff: \n14:30-15:00 Mingel\n15:00-15:10 Introduktion och information om Mersmak\n15:10-15:25 Mersmak 2025\n15:25-16:10 Huvudrätt + dragning runt bordet\n16:10-16:15 Platsbyte\n16:15-16:30 Månadens nätverkare och quiz\n16:30-16:45 Mini Frisell – Gåshaga Kafferosteri\n16:45-17:20 Dessert + dragning runt bordet\n17:20-17:30 Avrundning och feedback\n17:30-18:00 Mingel
URL:https://mersmak7h.se/natverkstraff/mersmak-5-maj/
LOCATION:Orangeriet\, Borås\, Teaterbron 1\, Borås\, 503 38
END:VEVENT
END:VCALENDAR